BEGIN:VCALENDAR
VERSION:2.0
PRODID:-//Androni Team - Sito ufficiale - ECPv4.5.1//NONSGML v1.0//EN
CALSCALE:GREGORIAN
METHOD:PUBLISH
X-WR-CALNAME:Androni Team - Sito ufficiale
X-ORIGINAL-URL:http://www.androniteam.it
X-WR-CALDESC:Events for Androni Team - Sito ufficiale
BEGIN:VEVENT
DTSTART;VALUE=DATE:20170926
DTEND;VALUE=DATE:20170927
DTSTAMP:20171017T030117
CREATED:20170127T170408Z
LAST-MODIFIED:20170127T170408Z
UID:917-1506384000-1506556799@www.androniteam.it
SUMMARY:Giro di Toscana
DESCRIPTION:
URL:http://www.androniteam.it/event/giro-di-toscana/
CATEGORIES:2017,Settembre
END:VEVENT
BEGIN:VEVENT
DTSTART;VALUE=DATE:20170928
DTEND;VALUE=DATE:20170928
DTSTAMP:20171017T030117
CREATED:20170710T154745Z
LAST-MODIFIED:20170710T154745Z
UID:1606-1506556800-1506643199@www.androniteam.it
SUMMARY:Coppa Sabatini
DESCRIPTION:
URL:http://www.androniteam.it/event/coppa-sabatini-2/
CATEGORIES:2017,Settembre
END:VEVENT
BEGIN:VEVENT
DTSTART;VALUE=DATE:20170928
DTEND;VALUE=DATE:20170928
DTSTAMP:20171017T030117
CREATED:20170928T160508Z
LAST-MODIFIED:20170130T180006Z
UID:919-1506556800-1506643199@www.androniteam.it
SUMMARY:Coppa Sabatini
DESCRIPTION:
URL:http://www.androniteam.it/event/coppa-sabatini/
CATEGORIES:2017,Settembre
END:VEVENT
BEGIN:VEVENT
DTSTART;VALUE=DATE:20170930
DTEND;VALUE=DATE:20170930
DTSTAMP:20171017T030117
CREATED:20170710T154823Z
LAST-MODIFIED:20170710T154823Z
UID:1608-1506729600-1506815999@www.androniteam.it
SUMMARY:Giro Dell'Emilia
DESCRIPTION:
URL:http://www.androniteam.it/event/giro-dellemilia-2/
CATEGORIES:2017,Settembre
END:VEVENT
BEGIN:VEVENT
DTSTART;VALUE=DATE:20170930
DTEND;VALUE=DATE:20170930
DTSTAMP:20171017T030117
CREATED:20170930T160609Z
LAST-MODIFIED:20170130T175931Z
UID:921-1506729600-1506815999@www.androniteam.it
SUMMARY:Giro dell'Emilia
DESCRIPTION:
URL:http://www.androniteam.it/event/giro-dellemilia/
CATEGORIES:2017,Settembre
END:VEVENT
BEGIN:VEVENT
DTSTART;VALUE=DATE:20171001
DTEND;VALUE=DATE:20171001
DTSTAMP:20171017T030117
CREATED:20170710T154954Z
LAST-MODIFIED:20170710T154954Z
UID:1610-1506816000-1506902399@www.androniteam.it
SUMMARY:Gran Premio Beghelli
DESCRIPTION:
URL:http://www.androniteam.it/event/gran-premio-beghelli/
CATEGORIES:2017,Ottobre
END:VEVENT
BEGIN:VEVENT
DTSTART;VALUE=DATE:20171003
DTEND;VALUE=DATE:20171003
DTSTAMP:20171017T030117
CREATED:20170710T155034Z
LAST-MODIFIED:20170710T155034Z
UID:1612-1506988800-1507075199@www.androniteam.it
SUMMARY:Tre Valli Varesine
DESCRIPTION:
URL:http://www.androniteam.it/event/tre-valli-varesine-2/
CATEGORIES:2017,Ottobre
END:VEVENT
BEGIN:VEVENT
DTSTART;VALUE=DATE:20171004
DTEND;VALUE=DATE:20171004
DTSTAMP:20171017T030117
CREATED:20170710T155113Z
LAST-MODIFIED:20170710T155113Z
UID:1614-1507075200-1507161599@www.androniteam.it
SUMMARY:Milano Torino
DESCRIPTION:
URL:http://www.androniteam.it/event/milano-torino-2/
CATEGORIES:2017,Ottobre
END:VEVENT
BEGIN:VEVENT
DTSTART;VALUE=DATE:20171005
DTEND;VALUE=DATE:20171005
DTSTAMP:20171017T030117
CREATED:20170710T155201Z
LAST-MODIFIED:20170710T155201Z
UID:1616-1507161600-1507247999@www.androniteam.it
SUMMARY:Gran Piemonte
DESCRIPTION:
URL:http://www.androniteam.it/event/gran-piemonte-2/
CATEGORIES:2017,Ottobre
END:VEVENT
BEGIN:VEVENT
DTSTART;VALUE=DATE:20171007
DTEND;VALUE=DATE:20171007
DTSTAMP:20171017T030117
CREATED:20170710T155241Z
LAST-MODIFIED:20170710T155259Z
UID:1618-1507334400-1507420799@www.androniteam.it
SUMMARY:Il Lombardia
DESCRIPTION:
URL:http://www.androniteam.it/event/il-lombardia-2/
CATEGORIES:2017,Ottobre
END:VEVENT
END:VCALENDAR